BEGIN:VCALENDAR
VERSION:2.0
PRODID:-//Laurentia Vineyard and Winery - ECPv6.15.20//NONSGML v1.0//EN
CALSCALE:GREGORIAN
METHOD:PUBLISH
X-WR-CALNAME:Laurentia Vineyard and Winery
X-ORIGINAL-URL:https://laurentiawinery.com
X-WR-CALDESC:Events for Laurentia Vineyard and Winery
REFRESH-INTERVAL;VALUE=DURATION:PT1H
X-Robots-Tag:noindex
X-PUBLISHED-TTL:PT1H
BEGIN:VTIMEZONE
TZID:America/New_York
BEGIN:DAYLIGHT
TZOFFSETFROM:-0500
TZOFFSETTO:-0400
TZNAME:EDT
DTSTART:20230312T070000
END:DAYLIGHT
BEGIN:STANDARD
TZOFFSETFROM:-0400
TZOFFSETTO:-0500
TZNAME:EST
DTSTART:20231105T060000
END:STANDARD
BEGIN:DAYLIGHT
TZOFFSETFROM:-0500
TZOFFSETTO:-0400
TZNAME:EDT
DTSTART:20240310T070000
END:DAYLIGHT
BEGIN:STANDARD
TZOFFSETFROM:-0400
TZOFFSETTO:-0500
TZNAME:EST
DTSTART:20241103T060000
END:STANDARD
BEGIN:DAYLIGHT
TZOFFSETFROM:-0500
TZOFFSETTO:-0400
TZNAME:EDT
DTSTART:20250309T070000
END:DAYLIGHT
BEGIN:STANDARD
TZOFFSETFROM:-0400
TZOFFSETTO:-0500
TZNAME:EST
DTSTART:20251102T060000
END:STANDARD
END:VTIMEZONE
BEGIN:VEVENT
DTSTART;TZID=America/New_York:20240213T180000
DTEND;TZID=America/New_York:20240213T203000
DTSTAMP:20260421T171752
CREATED:20231218T133305Z
LAST-MODIFIED:20240207T144859Z
UID:3975-1707847200-1707856200@laurentiawinery.com
SUMMARY:Cooking With Wine (Sold Out)
DESCRIPTION:Join Chef William as he prepares some of our favorite comfort foods with wines that will enhance each dish. The Three – course dinner will be paired with Laurentia wines. Classes are demonstration style\, and all participants leave with a booklet of recipes and wine notes from the class. \n$100.00 Member Price\n$120.00 Non-Members
URL:https://laurentiawinery.com/event/cooking-with-wine/
CATEGORIES:Tasting Dinner
ATTACH;FMTTYPE=image/jpeg:https://laurentiawinery.com/wp-content/uploads/2023/12/Feb-24-Cooking-Class_800x.jpg
END:VEVENT
END:VCALENDAR