BEGIN:VCALENDAR
VERSION:2.0
PRODID:-//Laurentia Vineyard and Winery - ECPv6.15.20//NONSGML v1.0//EN
CALSCALE:GREGORIAN
METHOD:PUBLISH
X-WR-CALNAME:Laurentia Vineyard and Winery
X-ORIGINAL-URL:https://laurentiawinery.com
X-WR-CALDESC:Events for Laurentia Vineyard and Winery
REFRESH-INTERVAL;VALUE=DURATION:PT1H
X-Robots-Tag:noindex
X-PUBLISHED-TTL:PT1H
BEGIN:VTIMEZONE
TZID:America/New_York
BEGIN:DAYLIGHT
TZOFFSETFROM:-0500
TZOFFSETTO:-0400
TZNAME:EDT
DTSTART:20250309T070000
END:DAYLIGHT
BEGIN:STANDARD
TZOFFSETFROM:-0400
TZOFFSETTO:-0500
TZNAME:EST
DTSTART:20251102T060000
END:STANDARD
BEGIN:DAYLIGHT
TZOFFSETFROM:-0500
TZOFFSETTO:-0400
TZNAME:EDT
DTSTART:20260308T070000
END:DAYLIGHT
BEGIN:STANDARD
TZOFFSETFROM:-0400
TZOFFSETTO:-0500
TZNAME:EST
DTSTART:20261101T060000
END:STANDARD
BEGIN:DAYLIGHT
TZOFFSETFROM:-0500
TZOFFSETTO:-0400
TZNAME:EDT
DTSTART:20270314T070000
END:DAYLIGHT
BEGIN:STANDARD
TZOFFSETFROM:-0400
TZOFFSETTO:-0500
TZNAME:EST
DTSTART:20271107T060000
END:STANDARD
END:VTIMEZONE
BEGIN:VEVENT
DTSTART;TZID=America/New_York:20260524T160000
DTEND;TZID=America/New_York:20260524T170000
DTSTAMP:20260419T150445
CREATED:20260417T142736Z
LAST-MODIFIED:20260417T142736Z
UID:4957-1779638400-1779642000@laurentiawinery.com
SUMMARY:Speaker Series - Holden Arboretum Botanical Gardens
DESCRIPTION:Join us for an inspiring afternoon with horticulturist Caroline Watson\, exploring how horticultural design can foster healing and enhance well-being. Gain practical insights on plant selection\, intentional design\, and mindfulness in the garden while enjoying wine\, charcuterie\, in an intimate cellar setting. \nTicket prices:\nMember $30.00\nNon-Member $35.00 \nPurchase tickets HERE \nTicket includes: 1 glass of wine\, charcuterie
URL:https://laurentiawinery.com/event/speaker-series-holden-arboretum-botanical-gardens/
CATEGORIES:Education
ATTACH;FMTTYPE=image/webp:https://laurentiawinery.com/wp-content/uploads/2026/04/Holden-Arboretum-Education-Speaker-Graphic.webp
END:VEVENT
END:VCALENDAR