BEGIN:VCALENDAR
VERSION:2.0
PRODID:-//Laurentia Vineyard and Winery - ECPv6.15.20//NONSGML v1.0//EN
CALSCALE:GREGORIAN
METHOD:PUBLISH
X-WR-CALNAME:Laurentia Vineyard and Winery
X-ORIGINAL-URL:https://laurentiawinery.com
X-WR-CALDESC:Events for Laurentia Vineyard and Winery
REFRESH-INTERVAL;VALUE=DURATION:PT1H
X-Robots-Tag:noindex
X-PUBLISHED-TTL:PT1H
BEGIN:VTIMEZONE
TZID:America/New_York
BEGIN:DAYLIGHT
TZOFFSETFROM:-0500
TZOFFSETTO:-0400
TZNAME:EDT
DTSTART:20240310T070000
END:DAYLIGHT
BEGIN:STANDARD
TZOFFSETFROM:-0400
TZOFFSETTO:-0500
TZNAME:EST
DTSTART:20241103T060000
END:STANDARD
BEGIN:DAYLIGHT
TZOFFSETFROM:-0500
TZOFFSETTO:-0400
TZNAME:EDT
DTSTART:20250309T070000
END:DAYLIGHT
BEGIN:STANDARD
TZOFFSETFROM:-0400
TZOFFSETTO:-0500
TZNAME:EST
DTSTART:20251102T060000
END:STANDARD
BEGIN:DAYLIGHT
TZOFFSETFROM:-0500
TZOFFSETTO:-0400
TZNAME:EDT
DTSTART:20260308T070000
END:DAYLIGHT
BEGIN:STANDARD
TZOFFSETFROM:-0400
TZOFFSETTO:-0500
TZNAME:EST
DTSTART:20261101T060000
END:STANDARD
END:VTIMEZONE
BEGIN:VEVENT
DTSTART;TZID=America/New_York:20250607T140000
DTEND;TZID=America/New_York:20250607T160000
DTSTAMP:20260421T051636
CREATED:20250421T174105Z
LAST-MODIFIED:20250512T002634Z
UID:4497-1749304800-1749312000@laurentiawinery.com
SUMMARY:Wine Blending Workshop
DESCRIPTION:Join our Winemaker\, Emmett Reed\, for an afternoon of wine blending and education. We will be creating a unique Cabernet Sauvignon blend using varietals from our estate.\nCabernet Franc\, Merlot and Petit Verdot each contribute different components to the blend and change the final wine with every addition. \nEnjoy your unique blend and pair with our accompanying charcuterie. Purchase you tickets at the link below: \nTICKETS \nNon-Members – $50\nMembers – $40
URL:https://laurentiawinery.com/event/wine-blending-workshop-june-2025/
CATEGORIES:Education
ATTACH;FMTTYPE=image/jpeg:https://laurentiawinery.com/wp-content/uploads/2025/03/Wine-Blending-Workshop-June-2025-Black-Web.jpg
END:VEVENT
END:VCALENDAR